BEGIN:VCALENDAR
VERSION:2.0
PRODID:-//Lukvalita  - ECPv5.16.4//NONSGML v1.0//EN
CALSCALE:GREGORIAN
METHOD:PUBLISH
X-WR-CALNAME:Lukvalita 
X-ORIGINAL-URL:https://lukvalita.cz
X-WR-CALDESC:Akce na Lukvalita 
REFRESH-INTERVAL;VALUE=DURATION:PT1H
X-Robots-Tag:noindex
X-PUBLISHED-TTL:PT1H
BEGIN:VTIMEZONE
TZID:Europe/Prague
BEGIN:DAYLIGHT
TZOFFSETFROM:+0100
TZOFFSETTO:+0200
TZNAME:CEST
DTSTART:20250330T010000
END:DAYLIGHT
BEGIN:STANDARD
TZOFFSETFROM:+0200
TZOFFSETTO:+0100
TZNAME:CET
DTSTART:20251026T010000
END:STANDARD
END:VTIMEZONE
BEGIN:VEVENT
DTSTART;TZID=Europe/Prague:20250521T080000
DTEND;TZID=Europe/Prague:20250522T170000
DTSTAMP:20260423T124826
CREATED:20250408T182320Z
LAST-MODIFIED:20260224T215604Z
UID:3954-1747814400-1747933200@lukvalita.cz
SUMMARY:MSA (analýza systému měření - 2 dny)
DESCRIPTION:MSA (analýza systému měření)\nPochopení celého procesu měření a rozšíření znalostí v oblasti metrologie. \nŠkolení je určené pro:\n– pracovníky laboratoře \n–   interní auditory \n–  metrologie \n–   procesní inženýry \nAbsolvent by měl být schopen pochopit souvislosti v oblasti celého procesu měření a také zpracovat a vyhodnotit výsledky způsobilosti procesu měření.   \nObsah školení:\nCíle\, odkaz na normy a směrnice. \nPožadavky ISO 9001 a IATF 16949 \nPojmy a definice \nUrčení vhodnosti měřícího systému \nUrčení standardních nejistot (metoda A\, metoda B) \nUrčení kombinovaných nejistot a rozšířené nejistoty \nUrčení vhodnosti měřícího systému QMS \nIndex způsobilosti měřícího systému (Cg\,Cgk) \nUrčení vhodnosti procesu měření  \nUrčení strannosti  \nUrčení stability  \nUrčení opakovatelnosti a reprodukovatelnosti (metoda ARM\, metoda Anova) \nAnalýza procesu měření pro atributivní znaky \nPředpoklady:\nzákladní znalost statistických metod \nUkončení:\nověření znalostí/ účastnící obdrží osvědčení o absolvování kurzu \nCena: 350 € \n(cena obsahuje : školení\, školící materiály\, drobné občerstvení)
URL:https://lukvalita.cz/skoleni/msa-analyza-systemu-mereni-2-dny-3/
LOCATION:Nová Dubnica\, Slovakia (Slovak Republic)
ORGANIZER;CN="Ing.%20Lubos%20Kiesel":MAILTO:lkiesel@seznam.cz
END:VEVENT
END:VCALENDAR