BEGIN:VCALENDAR
VERSION:2.0
PRODID:-//Lukvalita  - ECPv5.16.4//NONSGML v1.0//EN
CALSCALE:GREGORIAN
METHOD:PUBLISH
X-ORIGINAL-URL:https://lukvalita.cz
X-WR-CALDESC:Akce na Lukvalita 
REFRESH-INTERVAL;VALUE=DURATION:PT1H
X-Robots-Tag:noindex
X-PUBLISHED-TTL:PT1H
BEGIN:VTIMEZONE
TZID:Europe/Prague
BEGIN:DAYLIGHT
TZOFFSETFROM:+0100
TZOFFSETTO:+0200
TZNAME:CEST
DTSTART:20260329T010000
END:DAYLIGHT
BEGIN:STANDARD
TZOFFSETFROM:+0200
TZOFFSETTO:+0100
TZNAME:CET
DTSTART:20261025T010000
END:STANDARD
END:VTIMEZONE
BEGIN:VEVENT
DTSTART;TZID=Europe/Prague:20260330T080000
DTEND;TZID=Europe/Prague:20260401T170000
DTSTAMP:20260423T135548
CREATED:20250314T184142Z
LAST-MODIFIED:20260224T213912Z
UID:3905-1774857600-1775062800@lukvalita.cz
SUMMARY:Interní IATF 16949 auditor 1. a 2. stranou (3 dny)
DESCRIPTION:Školení je určené pro: \n\ninterní systémové auditory a auditory 1. a 2. strany\nvlastníky procesu\n\nObsah školení: \n\nZákladní informace o standardu IATF 16949:2016\n Procesní přístup a analýza rizik procesů\nPožadavky standardu IATF 16949:2016 vycházející ze znalostí ISO 9001:2015\nProcesně orientovaného auditování podle IATF 16949:2016\nCvičení a případové studie\n\nPředpoklady: znalost ISO 9001:2015\nUkončení: Test znalostí/Účastníci obdrží certifikát \nCena: 590 €  (cena obsahuje : školení\, školící materiály\, drobné občerstvení)
URL:https://lukvalita.cz/skoleni/interni-iatf-16949-auditor-1-a-2-stranou-3-dny/
LOCATION:Nová Dubnica\, Slovakia (Slovak Republic)
ORGANIZER;CN="Ing.%20Lubos%20Kiesel":MAILTO:lkiesel@seznam.cz
END:VEVENT
BEGIN:VEVENT
DTSTART;TZID=Europe/Prague:20260330T080000
DTEND;TZID=Europe/Prague:20260401T170000
DTSTAMP:20260423T135548
CREATED:20250316T103210Z
LAST-MODIFIED:20260112T120401Z
UID:3910-1774857600-1775062800@lukvalita.cz
SUMMARY:Core Tools (APQP/FMEA/MSA/SPC) 3 dny
DESCRIPTION:Cílem kurzu je seznámení se základními principy moderního plánování jakosti pro nové výrobky a výrobní procesy a porozumět provázanost mezi jednotlivými nástroji kvality (core tools). \nŠkolení je určené pro: \n\nprogramové managery\ninženýry kvality a členy projektových týmů\n\nObsah:                                                                                                                                                                                \n\nCíle APQP\nPožadavky IATF a specifické požadavky zákazníků na APQP\nZákladní principy projektového řízení\nVstupy do APQP\nFMEA/analýza rizik jako výchozí bod pro plánování jakosti\nPlán kontroly a řízení (Control Plan)\nAnalýza způsobilosti (zařízení/proces)\nAnalýza měření\nVýstupy APQP\nVerifikace a validace procesů / PPAP (PPF)\n\nUkončení: ověření znalostí/ účastnící obdrží osvědčení o absolvování kurzu \nCena: 450 € (cena obsahuje : školení\, školící materiály\, drobné občerstvení)
URL:https://lukvalita.cz/skoleni/core-tools-apqp-fmea-msa-spc-3-dny/
LOCATION:Nová Dubnica\, Slovakia (Slovak Republic)
ORGANIZER;CN="Ing.%20Lubos%20Kiesel":MAILTO:lkiesel@seznam.cz
END:VEVENT
BEGIN:VEVENT
DTSTART;TZID=Europe/Prague:20260402T080000
DTEND;TZID=Europe/Prague:20260402T170000
DTSTAMP:20260423T135548
CREATED:20260301T144639Z
LAST-MODIFIED:20260301T144701Z
UID:3999-1775116800-1775149200@lukvalita.cz
SUMMARY:DOE (Design of experiment\, Návrh experimentu -1 den\,)
DESCRIPTION:DOE (Návrh experimentu\, Návrh experimentu) \nZkoumání faktorů ovlivňujících požadovaný výstup produktového nebo procesního designu a určení hlavní faktorů a jejich interakcí. \nŠkolení je určené pro:\n\nnávrháře produktu a procesu\ninženýry kvality pro analýzu příčin problémů\n\nObsah školení:\n\nCíle navrhování experimentu\nAnalýza rizik a DOE\nFaktoriální přístup k navrhovanému experimentu\nZnáhodnění a replikace\nNávrh (úplný a dílčí faktoriální plán)\nAnalýza dat (grafické a numerické výstupy)\nMetoda ANOVA\n\nPředpoklady: \nzákladní znalost statistiky \nUkončení: \nověření znalostí/ účastnící obdrží osvědčení o absolvování kurzu. \nCena: 180 € \n(cena obsahuje : školení\, školící materiály\, drobné občerstvení)
URL:https://lukvalita.cz/skoleni/doe-design-of-experiment-navrh-experimentu-1-den-2/
LOCATION:Nová Dubnica\, Slovakia (Slovak Republic)
ORGANIZER;CN="Ing.%20Lubos%20Kiesel":MAILTO:lkiesel@seznam.cz
END:VEVENT
BEGIN:VEVENT
DTSTART;VALUE=DATE:20260407
DTEND;VALUE=DATE:20260408
DTSTAMP:20260423T135548
CREATED:20211026T143756Z
LAST-MODIFIED:20260112T103953Z
UID:2748-1775520000-1775606399@lukvalita.cz
SUMMARY:DOE (Design of experiment\, Návrh experimentu -1 den\,)
DESCRIPTION:DOE (Návrh experimentu\, Návrh experimentu) \nZkoumání faktorů ovlivňujících požadovaný výstup produktového nebo procesního designu a určení hlavní faktorů a jejich interakcí. \nŠkolení je určené pro:\n\nnávrháře produktu a procesu\ninženýry kvality pro analýzu příčin problémů  \n\nObsah školení:\n\nCíle navrhování experimentu\nAnalýza rizik a DOE\nFaktoriální přístup k navrhovanému experimentu\nZnáhodnění a replikace\nNávrh (úplný a dílčí faktoriální plán)\nAnalýza dat (grafické a numerické výstupy)\nMetoda ANOVA\n\nPředpoklady: \nzákladní znalost statistiky \nUkončení: \nověření znalostí/ účastnící obdrží osvědčení o absolvování kurzu. \nCena: 180 € \n(cena obsahuje : školení\, školící materiály\, drobné občerstvení)
URL:https://lukvalita.cz/skoleni/doe-design-of-experiment-navrh-experimentu-1-den/
LOCATION:Nová Dubnica\, Slovakia (Slovak Republic)
ATTACH;FMTTYPE=image/jpeg:https://lukvalita.cz/wp-content/uploads/2021/10/Untitled-1-copy.jpg
ORGANIZER;CN="Ing.%20Lubos%20Kiesel":MAILTO:lkiesel@seznam.cz
END:VEVENT
BEGIN:VEVENT
DTSTART;TZID=Europe/Prague:20260408T080000
DTEND;TZID=Europe/Prague:20260410T170000
DTSTAMP:20260423T135548
CREATED:20250316T103415Z
LAST-MODIFIED:20260112T104420Z
UID:3912-1775635200-1775840400@lukvalita.cz
SUMMARY:Interní IATF 16949 auditor 1. a 2. stranou (3 dny)
DESCRIPTION:Školení je určené pro:\n– interní systémové auditory a auditory 1. a 2. strany\n– vlastníky procesu\nObsah školení:\n• Základní informace o standardu IATF 16949:2016\n• Procesní přístup a analýza rizik procesů\n• Požadavky standardu IATF 16949:2016 vycházející ze znalostí ISO 9001:2015\n• Procesně orientovaného auditování podle IATF 16949:2016\n• Cvičení a případové studie\nPředpoklady: znalost ISO 9001:2015\nUkončení: Test znalostí/Účastníci obdrží certifikát \nCena: 490 € \n(cena obsahuje : školení\, školící materiály\, drobné občerstvení)
URL:https://lukvalita.cz/skoleni/interni-iatf-16949-auditor-1-a-2-stranou-3-dny-2/
LOCATION:Nová Dubnica\, Slovakia (Slovak Republic)
ORGANIZER;CN="Ing.%20Lubos%20Kiesel":MAILTO:lkiesel@seznam.cz
END:VEVENT
BEGIN:VEVENT
DTSTART;TZID=Europe/Prague:20260409T080000
DTEND;TZID=Europe/Prague:20260410T170000
DTSTAMP:20260423T135548
CREATED:20251201T183827Z
LAST-MODIFIED:20251201T183827Z
UID:3987-1775721600-1775840400@lukvalita.cz
SUMMARY:Harmonizovaná FMEA dle AIAG/VDA (2 dny)
DESCRIPTION:Školení je určené pro: \n\nvývojáře produktu\ntechnology a inženýry s odpovědností za návrh procesu\nmoderátory a techniky kvality\nostatní členy podílejících se na analýze rizik\n\nObsahem školení: \n\nAnalýza rizik produktu DFMEA\nAnalýza rizik produktu DFMEA\nAnalýza rizik procesu PFMEA\nFMEA pro monitorování a odezvu systému\n\nUkončení: Test znalostí / Účastnící obdrží certifikát. \nCena: 350 € \n(cena obsahuje : školení\, školící materiály\, drobné občerstvení)
URL:https://lukvalita.cz/skoleni/harmonizovana-fmea-dle-aiag-vda-2-dny-2/
LOCATION:Nová Dubnica\, Slovakia (Slovak Republic)
ORGANIZER;CN="Ing.%20Lubos%20Kiesel":MAILTO:lkiesel@seznam.cz
END:VEVENT
BEGIN:VEVENT
DTSTART;TZID=Europe/Prague:20260416T090000
DTEND;TZID=Europe/Prague:20260416T170000
DTSTAMP:20260423T135548
CREATED:20250926T133343Z
LAST-MODIFIED:20260224T214442Z
UID:3972-1776330000-1776358800@lukvalita.cz
SUMMARY:Řešení problémů - Global 8D - 1 den (8 hodin)
DESCRIPTION:Obsah školení: \n\nŘešení problémů ve vztahu na požadavky IATF 16949/ISO 9001\nProces „opatření k nápravě (definice a pojmy\, PDCA\, chyby v procesu „opatření k nápravě“\nVyužití metody Global 8D pro řešení problémů ( D0-D8)\nPopis problému (metoda is/is not)\nMetody určení kořenových příčin\n\n\n5 x proč – Metoda/\nIshikawův diagram\nFMEA\nFTA\n\n\n Workshop\n\nUkončení: \nověření znalostí/ účastnící obdrží osvědčení o absolvování kurzu. \nCena: 180 € \n(cena obsahuje : školení\, školící materiály\, drobné občerstvení)
URL:https://lukvalita.cz/skoleni/reseni-problemu-global-8d-1-den-8-hodin-3/
LOCATION:Nová Dubnica\, Slovakia (Slovak Republic)
ORGANIZER;CN="Ing.%20Lubos%20Kiesel":MAILTO:lkiesel@seznam.cz
END:VEVENT
BEGIN:VEVENT
DTSTART;TZID=Europe/Prague:20260423T090000
DTEND;TZID=Europe/Prague:20260424T170000
DTSTAMP:20260423T135548
CREATED:20250310T091710Z
LAST-MODIFIED:20260224T214637Z
UID:3903-1776934800-1777050000@lukvalita.cz
SUMMARY:Harmonizovaná FMEA dle AIAG/VDA (2 dny)
DESCRIPTION:Školení je určené pro: \n\nvývojáře produktu\ntechnology a inženýry s odpovědností za návrh procesu moderátory\ntechniky kvality\nostatní členy podílejících se na analýze rizik\n\nObsahem školení: \n\nAnalýza rizik produktu DFMEA\nAnalýza rizik produktu DFMEA\nAnalýza rizik procesu PFMEA\nFMEA pro monitorování a odezvu systému\n\nUkončení: Test znalostí / Účastnící obdrží certifikát. \nCena: 350 € \n(cena obsahuje : školení\, školící materiály\, drobné občerstvení)
URL:https://lukvalita.cz/skoleni/harmonizovana-fmea-dle-aiag-vda-2-dny/
LOCATION:Nová Dubnica\, Slovakia (Slovak Republic)
ORGANIZER;CN="Ing.%20Lubos%20Kiesel":MAILTO:lkiesel@seznam.cz
END:VEVENT
BEGIN:VEVENT
DTSTART;TZID=Europe/Prague:20260504T080000
DTEND;TZID=Europe/Prague:20260505T170000
DTSTAMP:20260423T135548
CREATED:20260112T105137Z
LAST-MODIFIED:20260112T105137Z
UID:3993-1777881600-1778000400@lukvalita.cz
SUMMARY:Požadavky IATF pro vlastníky procesů (Aplikace procesního přístupu)
DESCRIPTION:Obsah :  \n\nÚvod do procesního řízení\nVazby na strategii a cíle společnosti\nProcesní mapa společnosti (hlavní procesy\, podpůrné procesy)\nFunkční versus procesní přístup\nInterakce mezi procesy a vazba na externě zabezpečované procesy\nPopis procesu (diagram želvy)\nvlastníci procesu\nvstupy a výstupy (zákaznicky orientovaný přístup)\nkroky procesu\nindikátory efektivity a účinnosti\nmetody\nrizika procesů\nProcesní přístup PDCA\nPlánování\nŘízení procesů\nPřezkoumání procesů a jejich auditování\nZlepšování procesů a nápravná opatření\nČasté překážky v implementaci procesního přístupu\nSamostatné cvičení\n\nUkončení: \nověření znalostí/ účastnící obdrží osvědčení o absolvování kurzu. \nCena: 350 €/osoba \n(cena obsahuje : školení\, školící materiály\, drobné občerstvení)
URL:https://lukvalita.cz/skoleni/pozadavky-iatf-pro-vlastniky-procesu-aplikace-procesniho-pristupu/
LOCATION:Nová Dubnica\, Slovakia (Slovak Republic)
ORGANIZER;CN="Ing.%20Lubos%20Kiesel":MAILTO:lkiesel@seznam.cz
END:VEVENT
BEGIN:VEVENT
DTSTART;TZID=Europe/Prague:20260504T090000
DTEND;TZID=Europe/Prague:20260505T170000
DTSTAMP:20260423T135548
CREATED:20231106T154120Z
LAST-MODIFIED:20260224T215026Z
UID:3861-1777885200-1778000400@lukvalita.cz
SUMMARY:Požadavky IATF pro vlastníky procesů (Aplikace procesního přístupu)
DESCRIPTION:Obsah :  \n\nÚvod do procesního řízení\nVazby na strategii a cíle společnosti\nProcesní mapa společnosti (hlavní procesy\, podpůrné procesy)\nFunkční versus procesní přístup\nInterakce mezi procesy a vazba na externě zabezpečované procesy\nPopis procesu (diagram želvy)\nvlastníci procesu\nvstupy a výstupy (zákaznicky orientovaný přístup)\nkroky procesu\nindikátory efektivity a účinnosti\nmetody\nrizika procesů\nProcesní přístup PDCA\nPlánování\nŘízení procesů\nPřezkoumání procesů a jejich auditování\nZlepšování procesů a nápravná opatření\nČasté překážky v implementaci procesního přístupu\nSamostatné cvičení\n\nUkončení: \nověření znalostí/ účastnící obdrží osvědčení o absolvování kurzu. \nCena: 350 €/osoba \n(cena obsahuje : školení\, školící materiály\, drobné občerstvení)
URL:https://lukvalita.cz/skoleni/procesni-pristup/
LOCATION:Nová Dubnica\, Slovakia (Slovak Republic)
ORGANIZER;CN="Ing.%20Lubos%20Kiesel":MAILTO:lkiesel@seznam.cz
END:VEVENT
BEGIN:VEVENT
DTSTART;VALUE=DATE:20260601
DTEND;VALUE=DATE:20260604
DTSTAMP:20260423T135548
CREATED:20220105T162851Z
LAST-MODIFIED:20260224T215852Z
UID:3691-1780272000-1780531199@lukvalita.cz
SUMMARY:Core Tools (APQP/FMEA/MSA/SPC) 3 dny
DESCRIPTION:Cílem kurzu je seznámení se základními principy moderního plánování jakosti pro nové výrobky a výrobní procesy a porozumět provázanost mezi jednotlivými nástroji kvality (core tools).\nŠkolení je určené pro:\nKurz je určen pro programové managery\, inženýry kvality a členy projektových týmů.\nObsah\nCíle APQP\nPožadavky IATF a specifické požadavky zákazníků na APQP\nZákladní principy projektového řízení\nVstupy do APQP\nFMEA/analýza rizik jako výchozí bod pro plánování jakosti\nPlán kontroly a řízení (Control Plan)\nAnalýza způsobilosti (zařízení/proces)\nAnalýza měření\nVýstupy APQP\nVerifikace a validace procesů / PPAP (PPF)\nUkončení: ověření znalostí/ účastnící obdrží osvědčení o absolvování kurzu\nCena: 495 €(cena obsahuje : školení\, školící materiály\, drobné občerstvení)
URL:https://lukvalita.cz/skoleni/apqp-ppap-core-tools-moderni-planovani-jakosti-nastroje-kvality-3-dny-brno-termin-17-8-2022-19-8-2022/
LOCATION:Nová Dubnica\, Slovakia (Slovak Republic)
ATTACH;FMTTYPE=image/jpeg:https://lukvalita.cz/wp-content/uploads/2021/10/3.jpg
ORGANIZER;CN="Ing.%20Lubos%20Kiesel":MAILTO:lkiesel@seznam.cz
END:VEVENT
BEGIN:VEVENT
DTSTART;TZID=Europe/Prague:20260604T080000
DTEND;TZID=Europe/Prague:20260605T170000
DTSTAMP:20260423T135548
CREATED:20260301T145044Z
LAST-MODIFIED:20260301T145044Z
UID:4001-1780560000-1780678800@lukvalita.cz
SUMMARY:Harmonizovaná FMEA dle AIAG/VDA (2 dny)
DESCRIPTION:Školení je určené pro: \n\nvývojáře produktu\ntechnology a inženýry s odpovědností za návrh procesu\nmoderátory a techniky kvality\nostatní členy podílejících se na analýze rizik\n\nObsahem školení: \n\nAnalýza rizik produktu DFMEA\nAnalýza rizik produktu DFMEA\nAnalýza rizik procesu PFMEA\nFMEA pro monitorování a odezvu systému\n\nUkončení: Test znalostí / Účastnící obdrží certifikát. \nCena: 350 € \n(cena obsahuje : školení\, školící materiály\, drobné občerstvení)
URL:https://lukvalita.cz/skoleni/harmonizovana-fmea-dle-aiag-vda-2-dny-3/
LOCATION:Nová Dubnica\, Slovakia (Slovak Republic)
ORGANIZER;CN="Ing.%20Lubos%20Kiesel":MAILTO:lkiesel@seznam.cz
END:VEVENT
BEGIN:VEVENT
DTSTART;TZID=Europe/Prague:20260618T090000
DTEND;TZID=Europe/Prague:20260619T170000
DTSTAMP:20260423T135548
CREATED:20220928T034125Z
LAST-MODIFIED:20260224T215958Z
UID:3848-1781773200-1781888400@lukvalita.cz
SUMMARY:SPC - Statistické řízení procesu (2 dny)
DESCRIPTION:SPC – Statistické řízení procesu\nÚčastníci kurzu se seznámí se základními statistickými nástroji pro řízení a vyhodnocení výrobních procesů. \nŠkolení je určené pro: \nKurz je určen všem pracovníkům\, kteří navrhují\, využívají a nebo chtějí využívat  základní statistické metody pro vyhodnocení a řízení procesu. \nObsah kurzu:\nZáklady statistiky \nPožadavky normy ISO 9001 a IATF 16949 \nZákladní statistické ukazatele  \nVýpočet ukazatelů způsobilosti (zařízení\, procesu) \nVýpočet ukazatelů výkonnosti  \nStatistická regulace procesů \nVyužití regulačních diagramů pro zajištění stability výrobních procesů \nNáhodné a zvláštní příčiny  \nAplikace Shewhartových regulačních diagramů a jejich vyhodnocování \nUkončení: ověření znalostí/ účastnící obdrží osvědčení o absolvování kurzu \nCena: 350 € \n(cena obsahuje : školení\, školící materiály\, drobné občerstvení)
URL:https://lukvalita.cz/skoleni/spc-zilina/
LOCATION:Nová Dubnice
ORGANIZER;CN="Ing.%20Lubos%20Kiesel":MAILTO:lkiesel@seznam.cz
END:VEVENT
BEGIN:VEVENT
DTSTART;TZID=Europe/Prague:20260805T080000
DTEND;TZID=Europe/Prague:20260807T170000
DTSTAMP:20260423T135548
CREATED:20260301T144126Z
LAST-MODIFIED:20260301T144126Z
UID:3997-1785916800-1786122000@lukvalita.cz
SUMMARY:Core Tools (APQP/FMEA/MSA/SPC) 3 dny
DESCRIPTION:Cílem kurzu je seznámení se základními principy moderního plánování jakosti pro nové výrobky a výrobní procesy a porozumět provázanost mezi jednotlivými nástroji kvality (core tools). \nŠkolení je určené pro: \n\nprogramové managery\ninženýry kvality a členy projektových týmů\n\nObsah:                                                                                                                                                                                \n\nCíle APQP\nPožadavky IATF a specifické požadavky zákazníků na APQP\nZákladní principy projektového řízení\nVstupy do APQP\nFMEA/analýza rizik jako výchozí bod pro plánování jakosti\nPlán kontroly a řízení (Control Plan)\nAnalýza způsobilosti (zařízení/proces)\nAnalýza měření\nVýstupy APQP\nVerifikace a validace procesů / PPAP (PPF)\n\nUkončení: ověření znalostí/ účastnící obdrží osvědčení o absolvování kurzu \nCena: 450 € (cena obsahuje : školení\, školící materiály\, drobné občerstvení)
URL:https://lukvalita.cz/skoleni/core-tools-apqp-fmea-msa-spc-3-dny-2/
LOCATION:Nová Dubnica\, Slovakia (Slovak Republic)
ORGANIZER;CN="Ing.%20Lubos%20Kiesel":MAILTO:lkiesel@seznam.cz
END:VEVENT
END:VCALENDAR