BEGIN:VCALENDAR
VERSION:2.0
PRODID:-//Lukvalita  - ECPv5.16.4//NONSGML v1.0//EN
CALSCALE:GREGORIAN
METHOD:PUBLISH
X-ORIGINAL-URL:https://lukvalita.cz
X-WR-CALDESC:Akce na Lukvalita 
REFRESH-INTERVAL;VALUE=DURATION:PT1H
X-Robots-Tag:noindex
X-PUBLISHED-TTL:PT1H
BEGIN:VTIMEZONE
TZID:Europe/Prague
BEGIN:DAYLIGHT
TZOFFSETFROM:+0100
TZOFFSETTO:+0200
TZNAME:CEST
DTSTART:20260329T010000
END:DAYLIGHT
BEGIN:STANDARD
TZOFFSETFROM:+0200
TZOFFSETTO:+0100
TZNAME:CET
DTSTART:20261025T010000
END:STANDARD
END:VTIMEZONE
BEGIN:VEVENT
DTSTART;VALUE=DATE:20260601
DTEND;VALUE=DATE:20260604
DTSTAMP:20260423T153709
CREATED:20220105T162851Z
LAST-MODIFIED:20260224T215852Z
UID:3691-1780272000-1780531199@lukvalita.cz
SUMMARY:Core Tools (APQP/FMEA/MSA/SPC) 3 dny
DESCRIPTION:Cílem kurzu je seznámení se základními principy moderního plánování jakosti pro nové výrobky a výrobní procesy a porozumět provázanost mezi jednotlivými nástroji kvality (core tools).\nŠkolení je určené pro:\nKurz je určen pro programové managery\, inženýry kvality a členy projektových týmů.\nObsah\nCíle APQP\nPožadavky IATF a specifické požadavky zákazníků na APQP\nZákladní principy projektového řízení\nVstupy do APQP\nFMEA/analýza rizik jako výchozí bod pro plánování jakosti\nPlán kontroly a řízení (Control Plan)\nAnalýza způsobilosti (zařízení/proces)\nAnalýza měření\nVýstupy APQP\nVerifikace a validace procesů / PPAP (PPF)\nUkončení: ověření znalostí/ účastnící obdrží osvědčení o absolvování kurzu\nCena: 495 €(cena obsahuje : školení\, školící materiály\, drobné občerstvení)
URL:https://lukvalita.cz/skoleni/apqp-ppap-core-tools-moderni-planovani-jakosti-nastroje-kvality-3-dny-brno-termin-17-8-2022-19-8-2022/
LOCATION:Nová Dubnica\, Slovakia (Slovak Republic)
ATTACH;FMTTYPE=image/jpeg:https://lukvalita.cz/wp-content/uploads/2021/10/3.jpg
ORGANIZER;CN="Ing.%20Lubos%20Kiesel":MAILTO:lkiesel@seznam.cz
END:VEVENT
END:VCALENDAR