BEGIN:VCALENDAR
VERSION:2.0
PRODID:-//Lukvalita  - ECPv5.16.4//NONSGML v1.0//EN
CALSCALE:GREGORIAN
METHOD:PUBLISH
X-WR-CALNAME:Lukvalita 
X-ORIGINAL-URL:https://lukvalita.cz
X-WR-CALDESC:Akce na Lukvalita 
REFRESH-INTERVAL;VALUE=DURATION:PT1H
X-Robots-Tag:noindex
X-PUBLISHED-TTL:PT1H
BEGIN:VTIMEZONE
TZID:Europe/Prague
BEGIN:DAYLIGHT
TZOFFSETFROM:+0100
TZOFFSETTO:+0200
TZNAME:CEST
DTSTART:20260329T010000
END:DAYLIGHT
BEGIN:STANDARD
TZOFFSETFROM:+0200
TZOFFSETTO:+0100
TZNAME:CET
DTSTART:20261025T010000
END:STANDARD
END:VTIMEZONE
BEGIN:VEVENT
DTSTART;TZID=Europe/Prague:20260330T080000
DTEND;TZID=Europe/Prague:20260401T170000
DTSTAMP:20260423T123324
CREATED:20250314T184142Z
LAST-MODIFIED:20260224T213912Z
UID:3905-1774857600-1775062800@lukvalita.cz
SUMMARY:Interní IATF 16949 auditor 1. a 2. stranou (3 dny)
DESCRIPTION:Školení je určené pro: \n\ninterní systémové auditory a auditory 1. a 2. strany\nvlastníky procesu\n\nObsah školení: \n\nZákladní informace o standardu IATF 16949:2016\n Procesní přístup a analýza rizik procesů\nPožadavky standardu IATF 16949:2016 vycházející ze znalostí ISO 9001:2015\nProcesně orientovaného auditování podle IATF 16949:2016\nCvičení a případové studie\n\nPředpoklady: znalost ISO 9001:2015\nUkončení: Test znalostí/Účastníci obdrží certifikát \nCena: 590 €  (cena obsahuje : školení\, školící materiály\, drobné občerstvení)
URL:https://lukvalita.cz/skoleni/interni-iatf-16949-auditor-1-a-2-stranou-3-dny/
LOCATION:Nová Dubnica\, Slovakia (Slovak Republic)
ORGANIZER;CN="Ing.%20Lubos%20Kiesel":MAILTO:lkiesel@seznam.cz
END:VEVENT
BEGIN:VEVENT
DTSTART;TZID=Europe/Prague:20260330T080000
DTEND;TZID=Europe/Prague:20260401T170000
DTSTAMP:20260423T123324
CREATED:20250316T103210Z
LAST-MODIFIED:20260112T120401Z
UID:3910-1774857600-1775062800@lukvalita.cz
SUMMARY:Core Tools (APQP/FMEA/MSA/SPC) 3 dny
DESCRIPTION:Cílem kurzu je seznámení se základními principy moderního plánování jakosti pro nové výrobky a výrobní procesy a porozumět provázanost mezi jednotlivými nástroji kvality (core tools). \nŠkolení je určené pro: \n\nprogramové managery\ninženýry kvality a členy projektových týmů\n\nObsah:                                                                                                                                                                                \n\nCíle APQP\nPožadavky IATF a specifické požadavky zákazníků na APQP\nZákladní principy projektového řízení\nVstupy do APQP\nFMEA/analýza rizik jako výchozí bod pro plánování jakosti\nPlán kontroly a řízení (Control Plan)\nAnalýza způsobilosti (zařízení/proces)\nAnalýza měření\nVýstupy APQP\nVerifikace a validace procesů / PPAP (PPF)\n\nUkončení: ověření znalostí/ účastnící obdrží osvědčení o absolvování kurzu \nCena: 450 € (cena obsahuje : školení\, školící materiály\, drobné občerstvení)
URL:https://lukvalita.cz/skoleni/core-tools-apqp-fmea-msa-spc-3-dny/
LOCATION:Nová Dubnica\, Slovakia (Slovak Republic)
ORGANIZER;CN="Ing.%20Lubos%20Kiesel":MAILTO:lkiesel@seznam.cz
END:VEVENT
END:VCALENDAR